BEGIN:VCALENDAR
VERSION:2.0
PRODID:-//wp-events-plugin.com//7.2.3.1//EN
TZID:Europe/Stockholm
X-WR-TIMEZONE:Europe/Stockholm
BEGIN:VEVENT
UID:4@nattmolnet.saaf.se
DTSTART;TZID=Europe/Stockholm:20230819T190000
DTEND;TZID=Europe/Stockholm:20230820T030000
DTSTAMP:20230814T135829Z
URL:https://nattmolnet.saaf.se/events/skane-star-party/
SUMMARY:Skåne Star Party (nytt datum)
DESCRIPTION:Stefan Nilsson i Skåne anordnar ett star party som ett privat 
 initiativ med enkelt upplägg.\n\nAlla är välkomna men det kanske lämpa
 r sig främst för amatörastronomer boende i de södra delarna av Sverige
  pga logistik och riskkalkyl för väderomslag.\n\nSamling dagtid för rek
 ning\, grillning och umgänge.\nVid bra väder är det fria aktiviteter: A
 stroscaping\, Perseidfoto/obs\, Djuprymdsfoto/obs på en varm och mörk pl
 ats. Träffen håller på så länge sällskapet orkar.\n\nPlats är sydli
 gaste delen av Skåne\, plats bestäms senare inom gruppen. Träffen stäl
 ls in vid risk för dåligt väder.\n\nÄr du intresserad\, vill veta mer 
 eller delta i träffens chatt-grupp?\nTa kontakt med Stefan här på Nattm
 olnet eller via Facebook.\n\n&nbsp\;
ATTACH;FMTTYPE=image/jpeg:https://nattmolnet.saaf.se/wp-content/uploads/20
 23/05/StefansStarParty.jpeg
END:VEVENT
BEGIN:VTIMEZONE
TZID:Europe/Stockholm
X-LIC-LOCATION:Europe/Stockholm
BEGIN:DAYLIGHT
DTSTART:20230326T030000
TZOFFSETFROM:+0100
TZOFFSETTO:+0200
TZNAME:CEST
END:DAYLIGHT
END:VTIMEZONE
END:VCALENDAR