BEGIN:VCALENDAR
VERSION:2.0
PRODID:-//wp-events-plugin.com//7.2.3.1//EN
TZID:Europe/Stockholm
X-WR-TIMEZONE:Europe/Stockholm
BEGIN:VEVENT
UID:31@nattmolnet.saaf.se
DTSTART;TZID=Europe/Stockholm:20260820T120000
DTEND;TZID=Europe/Stockholm:20260823T115900
DTSTAMP:20260421T134224Z
URL:https://nattmolnet.saaf.se/events/sagittarius-2026/
SUMMARY:Sagittarius 2026
DESCRIPTION:Sagittarius 2026: 20–22 augusti\nSagittarius är sedan 1992 e
 n återkommande samlingspunkt och observationsträff med fokus på praktis
 k amatörastronomi i ren SAAF-anda. Njut av en magisk plats på södra Öl
 and med en mörk sensommarhimmel – Sveriges mest lättillgängliga mörk
 a plats. Här träffar du likasinnade\, nya och gamla bekantskaper\, kan 
 utbyta erfarenheter och lyssna på föredrag\, eventuellt delta i workshop
 s\, men framförallt — observera! \nÄn så länge är vi i startgropar
 na för planeringen. Från och med i år har vi inget årsmöte i samband 
 med träffen\, bara observationer och föredrag\, vilket även öppnar upp
  träffen för alla – inte bara för medlemmar. \nVill du kanske berät
 ta om något? Skriv det i anmälan (nedan) eller hör gärna av dig till s
 agittarius@saaf.se för frågor eller lufta dina tankar lite.\nI år komme
 r vi även ha plats för teleskoputställning: Berätta gärna i anmälan 
 om du har någon liten enkel astrofotorigg\, din bärbara grab-and-go-utru
 stning\, favoritdobben\, en specialkonstruktion\, favoritfältkikaren\, el
 ler något större spännande teleskop – det är alltid roligt att titta
  på och prata om varandras grejer!\n\n\nPRIS för medlemmar i SAAF:  250
  kr\nPRIS för icke medlemmar:  300 kr\nPRIS för familjer:  400 kr\nFik
 a:  40 kr/dag eller 100 kr för hela träffen (per person)\nAllting betal
 as på plats!\nOBS! Luncher\, middagar och boende ombesörjer var och en s
 jälva.\n\n\n\nA N M Ä L A N (icke bindande): via detta formulär\n&nbsp\
 ;\n\n\n\n&nbsp\;\nN Ä R \,   V A R \,   H U R ? \nNÄR: I år kommer
  Sagittarius hållas något efter nymånen (och efter solförmörkelsen ef
 tersom många åker till Island och Spanien för att uppleva denna) under 
 näst sista helgen i augusti: 20–22 augusti. Många besökare tjuvstarta
 r enligt traditionen redan på onsdagkvällen den 19:e\, somliga till och 
 med flera dagar tidigare. \nVAR:\nPreliminär plats: Vi ses dagtid på Fo
 lkets hus i Degerhamn (prel. öppet mellan 12.00 och 17.00).\nVi observera
 r gemensamt nattetid på parkeringen vid Eketorps borg. \nHUR: Program ne
 dan uppdateras löpande. \n&nbsp\;\n\n&nbsp\;\n\n\n\nAktuell väderprogno
 s för Eketorp: \n\nVäderöversikt\nAstronomiskt väder \nVäderkarta\n
 \n&nbsp\;\n\nP R O G R A M   (EJ KLART)  \n&nbsp\;\n\n[ O n s d a g  
 – 1 9 ]\n\nTjuvstartskväll för tidigt ankomna observatörer. En del an
 länder redan måndag och tisdag.\nObservationer: Eketorp är tillgänglig
 t (camping förbjuden)\, men ingen organiserad ljussläckning av Eketorp o
 ch ingen presenning som ljusskydd\, se övriga regler nedan.\n\n&nbsp\;\n\
 n. . .\n[ T o r s d a g  – 2 0 ]\n\n12.00 – 17.00  Små föredrag\, 
 diskussioner\, workshop\, teleskoputställning och mingel.\nTema och fokus
  för dagen: ej bestämt (mer än ”praktisk amatörastronomi”)\n— 1 
 kort amatörföredrag\n— 1 astronomiworkshop\n\n\nKväll\, vid dåligt v
 äder:\n— Plats för ca 2 föredrag\nObservationer på Eketorp under kv
 ällen\, se regler nedan.\n&nbsp\;\n\n. . .\n[ F r e d a g – 2 1 ]\n10.0
 0  Geologivandring för morgonpigga!\n12.00 – 17.00  Små föredrag\, 
 diskussioner\, workshop\, teleskoputställning + mingel och försäljning.
 \nTema och fokus för dagen: ej bestämt (mer än ”praktisk amatörastro
 nomi”)\n— 1 kort amatörföredrag\n— 1 astronomiworkshop\n\nKväll\,
  vid dåligt väder:\n— Plats för ca 3 föredrag\nObservationer på Eke
 torp under kvällen\, se regler nedan.\n\n&nbsp\;\n\n. . .\n[ L ö r d a g
  – 2 2 ] \n12.00 – 17.00  Föredrag\, diskussioner\, teleskoputstäl
 lning + mingel och försäljning.\nTema och fokus för dagen: ej bestämt 
 (mer än ”praktisk amatörastronomi”)\n— 1 gästföreläsare (ev for
 skare eller liknande)\n— 1 kortare amatörföredrag\n— Ev 1 nybörjarw
 orkshop\n\n\nKväll:\n– 18.00 Gemensam middag på Carlas\, se nedan fö
 r info och föranmälan. \nObservationer på Eketorp under kvällen\, se 
 regler nedan.\n\n&nbsp\;\n\nEv vid mulet väder:\n— Plats för ca 3 för
 edrag\n\n\n&nbsp\;\n\n. . .\n[ S ö n d a g – 2 3 ]\n10.00 – 12.00  S
 tädning och eftersnack\, de som kan hjälper till och grovstädar. (Fika 
 finnes.)\nEketorp är tillgängligt för de som vill stanna kvar.\n(Mer fr
 i placering än under träffen\, även om mörkerpolicyn gäller\, dock in
 te helt säkert att Eketorp har släckt ner sin utebelysning på söndag k
 väll.)\n\n&nbsp\;\n\n&nbsp\;\n\n\n\n&nbsp\;\n\n&nbsp\;\n\nSpontana presen
 tationer:\nTraditionsenligt välkomnar vi kortare anföranden och föredra
 g\, gärna spontana och baserade på den gångna nattens upplevelser — v
 i hoppas att du som som deltar på träffen vill hålla ett kortare anför
 ande om dina astronomiprojekt\, ditt favoritteleskop eller om dina observa
 tioner. Även om vi håller plats i schemat för spontanitet kanske du red
 an nu vet att du vill berätta om något? Hör av dig. (I år kommer vi at
 t försöka ge mer plats åt mingel\, snack\, teleskoputställning och fö
 rsäljning och inte ha för många föredrag.) \nUtställningsmöjlighete
 r:\n\nHör också av dig ifall du vill ställa ut dina astrofotografier el
 ler en poster över ditt projekt. Vid behov ser vi över vilka möjlighete
 r som finns. Helst ser vi att du som utställare har stabila fotografier o
 ch affischer som kan stå av egen kraft – tyvärr har lokalerna ganska h
 årda tegelväggar och i dagsläget står inga vikväggar till buds\, men 
 vi ser hur vi kan lösa det om behov uppstår.\n\nFjärrteleskopsobservati
 oner:\nOm vädret tidvis skulle vara dåligt på Öland men bra i Spanien 
 kommer vi att göra observationer med SAAF:s fjärrteleskop i Spanien . Ha
 r du önskemål på observationsobjekt? Hör gärna av dig till oss i för
 väg. \n\nFokusdiskussioner:\nI mån av tid bjuder vi in till fokuserade 
 medlemsdiskussioner om utvecklingen av SAAF och olika projekt\, se ovan.\n
 \n&nbsp\;\n\n&nbsp\;\nF Ö R S Ä L J N I N G \n&nbsp\;\n\nFörsäljare:\
 n\n\n&nbsp\;\n\n\n\nMats Yderstig från Astrotec kommer vara på plats me
 d utställning och försäljning.\n\n&nbsp\;\n\n\n\nPatrick Woitala från 
 Nienna Starworks kommer vara på plats med sina specialtillverkade Dobsont
 eleskop och tillbehör.\n\n&nbsp\;\n\nBegagnatmarknad:\nVill du som medlem
  sälja något begagnat på plats? Ange detta i anmälan. \nVi anordnar m
 ed ett bord där du kan ha bilder\, prisskyltar och grejer. Du ansvarar sj
 älv för prylarna. \n\n&nbsp\;\n\nSAAF-trycksaker:\nVi kommer att erbjud
 a försäljning av Apertur\, Telescopiumnummer\, Fokusnummer\, Natt och As
 tronomiska årskalendrar under träffen till mycket förmånliga priser.\n
 \n&nbsp\;\n\n&nbsp\;\n\n\n\n&nbsp\;\n\n&nbsp\;\nK O S T   O C H   L O 
 G I    \n\nMAT:\nVar och en ansvarar i huvudsak själv för all förtä
 ring som luncher\, middagar och annan mat.\nKafe\, te\, bulle och kaka kom
 mer att ingå i priset för träffen.\nPå gångavstånd från Folkets hus
  finns pizzeria och mataffär med självbetjäning för enkel lunch eller 
 extra energi.\nLunch finns också att köpa på Carlas Café i Näsby\, en
  bit norr om Ottenby. \n\n&nbsp\;\n\nGemensam middag på lördag kväll (
 och ev andra kvällar): \n\nVi bokar bord (för de som anmäler sig) på C
 arlas i Näsby för en trevlig lördagskväll tillsammans innan sista nat
 tens observationer. Intresseanmälan till middag gör du vid anmälan. Bet
 alning av mat och dryck sker på plats. \n\nMENY:\n\nEj fastställd än.\
 n\n \n\n&nbsp\;\n\nBOENDE:\nVar och en ansvarar för eget boende.\nObserv
 era att det inte är tillåtet att campa eller ställa husbilar på parker
 ingen utanför Folkets hus. Camping är också förbjuden på Eketorps bor
 gs parkering. Men det finns gott om campingar\, ställplatser\, stugbyar\,
  vandrarhem och bed &amp\; breakfast på Öland.\nTips på två populära 
 boenden: Ottenby vandrarhem och Grönhögens stugby.\nPå Ölands hemsida
  oland.se hittar du länkar till olika boenden samt information och tips o
 m utflykter\, evenemang och annat. \n\n&nbsp\;\n\n&nbsp\;\nA N M Ä L A N
   \nvia detta formulär\nPRIS för medlemmar i SAAF:  250 kr\nPRIS för
  icke medlemmar:  300 kr\nPRIS för familjer:  400 kr\nFika:  40 kr/dag
  eller 100 kr för hela träffen (per person)\nAllting betalas på plats!\
 nOBS! Luncher\, middagar och boende ombesörjer var och en själva.\n&nbsp
 \;\n\n&nbsp\;\n\n&nbsp\;\n\n&nbsp\;\nO B S E R V A T I O N E R   P Å  
  E K E T O R P     \n\nMÖRKERPOLICY:\nPå den utmärkta observationsp
 latsen vid Eketorps borg kommer vi i sedvanlig ordning vara väldigt strik
 ta med mörkerhållningen för att säkerställa att alla får en fantasti
 sk och ostörd upplevelse av den mörka stjärnhimlen som erbjuds vid klar
 t väder. \n\nTvå zoner – observationsplats och parkering. \n\n[N] No
 rra sektionen\, observationer och foto: \nPå museiparkeringens norra gru
 s- asfalt och grässektioner samsas i år alla visuella djuprymdsobservat
 örer med astrofotografer under förutsättningen att alla tar sitt mörke
 ransvar\, dämpar och skärmar av datorskärmar och använder svaga pannla
 mpor med rött ljus. Här kan man lasta ur sina bilar innan kl 21.30. Efte
 r kl 21.30 ska alla bilar ha avlägsnats och parkerats på museiparkeringe
 ns södra del enligt kartan. Ger man sig av tidigare så bär man helt enk
 elt sin utrustning ner till bilen. Vi arbetar på att undersöka möjlighe
 ten att bistå med skrinda. Astrofotografer med tung utrusning och ni med 
 större dobsonteleskop står med fördel på observationsytans nedre delar
  nära de parkerade bilarna. Svagt rött ljus gäller på såväl pannlamp
 or som skärmar.\n\n[S] Södra sektionen\, parkering: \nPå museiparkerin
 gens södra sektion\, vid infarten\, parkerar samtliga besökare sina bila
 r. Här är infart och avfärd okej för alla under natten. Observera att 
 hel-\, halv\, eller varselljus inte är godkänt! När bilen närmar sig o
 mrådet (med god marginal) skall bilens parkeringsljus eller positionsljus
  vara det enda ljus du använder (under infart/utfart) – positionsljusen
  är aktiverade när belysningen av bilen är på ”0” eller avstängd 
 i bilen. Om du parkerar i anslutning till din observations- eller fotoutru
 stning – parkera så att framlyktorna riktas söderut enligt kartans ins
 truktioner\, stäng helst av den automatiska kupébelysningen\, ambientbel
 ysning och tejpa för bagageutrymmesbelysning och eventuella ledljus under
  backspeglarna. Det finns svart tejp på plats\, fråga någon i kommitté
 n. Vi kommer att ha en avskärmande presenning mot parkeringen. Men vi rå
 der ändå alla att om man man behöver öppna sina bilar under kvällen a
 tt all belysning inklusive innerbelysningen är släckt eller maskerad fö
 r att besökarna ska kunna behålla mörkerseendet. Vi förstår att det i
 nte är möjligt för alla att leva upp till detta i detalj\, men prata me
 d varandra och kom överens när folk ska blunda – man kommer långt med
  bara vanlig kamratlig respekt.\n\nStrömlöst:\nAstrofotografer och obser
 vatörer ombesörjer egen ström via eget batteri. Det finns inte möjligh
 eter till fast ström via eluttag!\n\nFaciliteter:\nVi har tillgång till 
 museets toaletter i norra delen i yttre byggnaden till höger efter trappa
 n.\nToaletten är alltid öppen.\nEketorp släcker sin utebelysning onsdag
 –söndag.\n\nCamping förbjuden:\nTänk på att det råder campingförbu
 d på Eketorps parkering\, men ni får stå där så länge ni är aktiva.
 \n\n&nbsp\;\n\nKlickbar karta nedan med de viktigaste reglerna för observ
 ationsplats Eketorp (på svenska): \n\n\n\n&nbsp\;\n\nClickable map below
  with the key rules for the Eketorp observation site (in English):\n\n\n\n
 &nbsp\;\n\n&nbsp\;\n\nTIPS:\nDet finns en äldre diskussionstråd som Lars
  Magnusson i GAF har startat här på Nattmolnet för tips inför Sagittar
 ius. Han delar där en länk till en otroligt väl genomarbetad karta öve
 r observationsplatser på Öland för er som stannar under en längre tid.
  Dela också gärna med dig av dina egna tips\, ställ frågor eller disku
 tera i tråden.\n\n&nbsp\;\nF R Å G O R  \nOm du har frågor om program
 met\, vill anmäla dig till ett kort litet föredrag eller om du har tips 
 på idéer och aktiviteter\, mejla oss på sagittarius@saaf.se \n\nOm du 
 har frågor om möteslokalen\, observationsplatser och lokala arrangemang\
 , kontakta: Jörgen Tannerstedt.\n\nAnnars finns också plats för alla de
 ssa frågor i själva anmälan ovan.\n\n&nbsp\;\n\nVälkommen till mörkre
 t och värmen!\n\n&nbsp\;\n/Organisationskommittén\,\nJörgen Tannerstedt
  (GAF/SAAF)\nClaes Martinsson (GAF/SAAF)\nOlle Eriksson (SAAF)\nFredrik Si
 low (SAAF)\nLars Magnusson (GAF/SAAF)\nJohan Warell (SAAF)\n
ATTACH;FMTTYPE=image/jpeg:https://nattmolnet.saaf.se/wp-content/uploads/20
 26/03/SAG_26_inbjudan.jpg
LOCATION:Folketshus\, Södra Möckleby\, Öland\, Folketshusvägen 7\, Dege
 rhamn\, 380 65\, Sverige
X-APPLE-STRUCTURED-LOCATION;VALUE=URI;X-ADDRESS=Folketshusvägen 7\, Degerh
 amn\, 380 65\, Sverige;X-APPLE-RADIUS=100;X-TITLE=Folketshus\, Södra Möc
 kleby\, Öland:geo:0,0
END:VEVENT
BEGIN:VTIMEZONE
TZID:Europe/Stockholm
X-LIC-LOCATION:Europe/Stockholm
BEGIN:DAYLIGHT
DTSTART:20260329T030000
TZOFFSETFROM:+0100
TZOFFSETTO:+0200
TZNAME:CEST
END:DAYLIGHT
END:VTIMEZONE
END:VCALENDAR