BEGIN:VCALENDAR
VERSION:2.0
PRODID:-//wp-events-plugin.com//7.2.3.1//EN
TZID:Europe/Stockholm
X-WR-TIMEZONE:Europe/Stockholm
BEGIN:VEVENT
UID:14@nattmolnet.saaf.se
DTSTART;TZID=Europe/Stockholm;VALUE=DATE:20240927
DTEND;TZID=Europe/Stockholm;VALUE=DATE:20240930
DTSTAMP:20240918T073820Z
URL:https://nattmolnet.saaf.se/events/norrland-star-party-2024/
SUMMARY:NORRLAND STAR PARTY 2024 (NSP-24)
DESCRIPTION:Välkomna till NSP\, Norrland Star Party 2024\, 27 – 29 septe
 mber\n&nbsp\;\n\nNSAA – North Sweden Amateur Astronomer samordnar årets
  träff under helgen 27 – 29/9. I år kommer det att vara 17:e gången N
 SP genomförs och vi kommer att hålla till där det hela började\, i Äl
 vsby Flygklubbs lokaler på Högheden i Älvsbyn. Samling under eftermidda
 gen fredag 27/9 och avslutning vid lunchtid på söndag 29/9.\n\n&nbsp\;\n
 \nProgram &amp\; anmälan: \n\nNi hittar uppdaterad information om allt i
  NSAA:s forum på denna länk.\n\n&nbsp\;\nVälkommen! \n/Ulf Jonsson 
ATTACH;FMTTYPE=image/jpeg:https://nattmolnet.saaf.se/wp-content/uploads/20
 23/09/ULF-J_NattlysandemolnL.jpeg
END:VEVENT
BEGIN:VTIMEZONE
TZID:Europe/Stockholm
X-LIC-LOCATION:Europe/Stockholm
BEGIN:DAYLIGHT
DTSTART:20240331T030000
TZOFFSETFROM:+0100
TZOFFSETTO:+0200
TZNAME:CEST
END:DAYLIGHT
END:VTIMEZONE
END:VCALENDAR