BEGIN:VCALENDAR
VERSION:2.0
PRODID:-//wp-events-plugin.com//7.2.3.1//EN
TZID:Europe/Stockholm
X-WR-TIMEZONE:Europe/Stockholm
BEGIN:VEVENT
UID:21@nattmolnet.saaf.se
DTSTART;TZID=Europe/Stockholm:20250401T200000
DTEND;TZID=Europe/Stockholm:20250401T210000
DTSTAMP:20250325T120136Z
URL:https://nattmolnet.saaf.se/events/astrofotokafe-1-2025/
SUMMARY:Astrofotokafé: Elektronik och problemlösning i fält – Claes Ma
 rtinsson
DESCRIPTION:Datum: 1 april\nTid: kl. 20:00\n\n\n\nVälkommen till årets f
 örsta Astrofotokafé med Svensk Amatörastronomisk Förening (SAAF)!\nDen
  här gången delar Claes Martinsson\, astrofotograf och elektronikentusia
 st\, med sig av sina erfarenheter kring strömförsörjning till astrofoto
 utrustning – och bjuder på praktiska tips och tricks för att undvika v
 anliga problem under stjärnklara nätter.\nDet här kaféet riktar sig s
 ärskilt till dig som är tekniskt intresserad och vill optimera din utrus
 tning.\nFrågestund på slutet – inga frågor är för små!\nAnmälan: 
 Mejla claes.martinsson [a] saaf.se för att få möteslänken. Har du delt
 agit tidigare får du länken automatiskt.\nFörsta gången? Då bjuder vi
  på deltagandet även om du inte är medlem i SAAF.\nVarmt välkommen!/Ch
 ristian och Claes\, Astrofotosektionen i SAAF\n\n\n\n&nbsp\;\n\n&nbsp\;
ATTACH;FMTTYPE=image/jpeg:https://nattmolnet.saaf.se/wp-content/uploads/20
 25/03/Electro.jpg
END:VEVENT
BEGIN:VTIMEZONE
TZID:Europe/Stockholm
X-LIC-LOCATION:Europe/Stockholm
BEGIN:DAYLIGHT
DTSTART:20250330T030000
TZOFFSETFROM:+0100
TZOFFSETTO:+0200
TZNAME:CEST
END:DAYLIGHT
END:VTIMEZONE
END:VCALENDAR